BEGIN:VCALENDAR
VERSION:2.0
PRODID:-//Malawi Electoral Commission - ECPv4.9.0.3//NONSGML v1.0//EN
CALSCALE:GREGORIAN
METHOD:PUBLISH
X-WR-CALNAME:Malawi Electoral Commission
X-ORIGINAL-URL:https://mec.org.mw
X-WR-CALDESC:Events for Malawi Electoral Commission
BEGIN:VEVENT
DTSTART;VALUE=DATE:20190320
DTEND;VALUE=DATE:20190327
DTSTAMP:20210714T015031
CREATED:20190320T063935Z
LAST-MODIFIED:20190320T063935Z
UID:14841-1553040000-1553644799@mec.org.mw
SUMMARY:Vetting of ballot paper templates by party/candidates' representatives
DESCRIPTION:
URL:https://mec.org.mw/event/vetting-of-ballot-paper-templates-by-party-candidates-representatives/
CATEGORIES:2019 Tripartite Elections
END:VEVENT
END:VCALENDAR