BEGIN:VCALENDAR
VERSION:2.0
PRODID:-//Malawi Electoral Commission - ECPv4.9.0.3//NONSGML v1.0//EN
CALSCALE:GREGORIAN
METHOD:PUBLISH
X-WR-CALNAME:Malawi Electoral Commission
X-ORIGINAL-URL:https://mec.org.mw
X-WR-CALDESC:Events for Malawi Electoral Commission
BEGIN:VEVENT
DTSTART;VALUE=DATE:20181001
DTEND;VALUE=DATE:20190321
DTSTAMP:20210727T160433
CREATED:20190320T063232Z
LAST-MODIFIED:20190320T063232Z
UID:14817-1538352000-1553126399@mec.org.mw
SUMMARY:Accreditation of International and Local observers
DESCRIPTION:
URL:https://mec.org.mw/event/accreditation-of-international-and-local-observers/
CATEGORIES:2019 Tripartite Elections
END:VEVENT
BEGIN:VEVENT
DTSTART;VALUE=DATE:20190104
DTEND;VALUE=DATE:20190113
DTSTAMP:20210727T160433
CREATED:20190320T063511Z
LAST-MODIFIED:20190320T063511Z
UID:14827-1546560000-1547337599@mec.org.mw
SUMMARY:Briefing of Returning Officers on Nomination of Candidates (CROs & DCs)
DESCRIPTION:
URL:https://mec.org.mw/event/briefing-of-returning-officers-on-nomination-of-candidates-cros-dcs/
CATEGORIES:2019 Tripartite Elections
END:VEVENT
END:VCALENDAR